BEGIN:VCALENDAR
VERSION:2.0
PRODID:-// - ECPv6.15.20//NONSGML v1.0//EN
CALSCALE:GREGORIAN
METHOD:PUBLISH
X-ORIGINAL-URL:https://stignace.com
X-WR-CALDESC:Events for 
REFRESH-INTERVAL;VALUE=DURATION:PT1H
X-Robots-Tag:noindex
X-PUBLISHED-TTL:PT1H
BEGIN:VTIMEZONE
TZID:America/Toronto
BEGIN:DAYLIGHT
TZOFFSETFROM:-0500
TZOFFSETTO:-0400
TZNAME:EDT
DTSTART:20240310T070000
END:DAYLIGHT
BEGIN:STANDARD
TZOFFSETFROM:-0400
TZOFFSETTO:-0500
TZNAME:EST
DTSTART:20241103T060000
END:STANDARD
BEGIN:DAYLIGHT
TZOFFSETFROM:-0500
TZOFFSETTO:-0400
TZNAME:EDT
DTSTART:20250309T070000
END:DAYLIGHT
BEGIN:STANDARD
TZOFFSETFROM:-0400
TZOFFSETTO:-0500
TZNAME:EST
DTSTART:20251102T060000
END:STANDARD
BEGIN:DAYLIGHT
TZOFFSETFROM:-0500
TZOFFSETTO:-0400
TZNAME:EDT
DTSTART:20260308T070000
END:DAYLIGHT
BEGIN:STANDARD
TZOFFSETFROM:-0400
TZOFFSETTO:-0500
TZNAME:EST
DTSTART:20261101T060000
END:STANDARD
END:VTIMEZONE
BEGIN:VEVENT
DTSTART;TZID=America/Toronto:20250827T180000
DTEND;TZID=America/Toronto:20250827T190000
DTSTAMP:20260421T161210
CREATED:20250618T181918Z
LAST-MODIFIED:20250709T161949Z
UID:10003934-1756317600-1756321200@stignace.com
SUMMARY:Wacky Wednesdays
DESCRIPTION:St. Ignace Wacky Wednesdays are a lively weekly celebration of family fun and surprise entertainment.  \nEvery Wednesday from 6:00 p.m. to 7:00 p.m.\, held at Zac & Mac’s Pocket Park (near First National Bank)\,  \nexpect to be delighted by a rotating lineup of quirky street performers—including jugglers\, live statues\, comedians\,  \nand spontaneous interactive acts—creating a festive midweek break in a friendly community atmosphere.  \nWhether you’re bringing the kids or just enjoying a casual stroll downtown\, \nWacky Wednesdays add a playful touch to your summer evenings in St. Ignace. \nChildren’s Entertainment Jugglers \nJuly 2 – Jania Taylor \nJuly 9 – Chet Mitchell \nJuly 16 – Jania Taylor \nJuly 23 – Chet Mitchell \nJuly 30 – Chet Mitchell \n • • \nAugust 6 – Jania Taylor \nAugust 13 – Jania Taylor \nAugust 20 – Chet Mitchell \nAugust 27 – Jania Taylor
URL:https://stignace.com/event/wacky-wednesday-2/2025-08-27/
LOCATION:260 N State St\, St Ignace\, MI 49781\, 260 N State St\, St. Ignace\, Michigan\, 49781
CATEGORIES:Family Fun,Summer Evenings
ATTACH;FMTTYPE=image/jpeg:https://stignace.com/wp-content/uploads/2025/06/01-Wacky-Wednesdays.jpg
END:VEVENT
BEGIN:VEVENT
DTSTART;TZID=America/Toronto:20250820T180000
DTEND;TZID=America/Toronto:20250820T190000
DTSTAMP:20260421T161210
CREATED:20250618T181918Z
LAST-MODIFIED:20250709T161949Z
UID:10003933-1755712800-1755716400@stignace.com
SUMMARY:Wacky Wednesdays
DESCRIPTION:St. Ignace Wacky Wednesdays are a lively weekly celebration of family fun and surprise entertainment.  \nEvery Wednesday from 6:00 p.m. to 7:00 p.m.\, held at Zac & Mac’s Pocket Park (near First National Bank)\,  \nexpect to be delighted by a rotating lineup of quirky street performers—including jugglers\, live statues\, comedians\,  \nand spontaneous interactive acts—creating a festive midweek break in a friendly community atmosphere.  \nWhether you’re bringing the kids or just enjoying a casual stroll downtown\, \nWacky Wednesdays add a playful touch to your summer evenings in St. Ignace. \nChildren’s Entertainment Jugglers \nJuly 2 – Jania Taylor \nJuly 9 – Chet Mitchell \nJuly 16 – Jania Taylor \nJuly 23 – Chet Mitchell \nJuly 30 – Chet Mitchell \n • • \nAugust 6 – Jania Taylor \nAugust 13 – Jania Taylor \nAugust 20 – Chet Mitchell \nAugust 27 – Jania Taylor
URL:https://stignace.com/event/wacky-wednesday-2/2025-08-20/
LOCATION:260 N State St\, St Ignace\, MI 49781\, 260 N State St\, St. Ignace\, Michigan\, 49781
CATEGORIES:Family Fun,Summer Evenings
ATTACH;FMTTYPE=image/jpeg:https://stignace.com/wp-content/uploads/2025/06/01-Wacky-Wednesdays.jpg
END:VEVENT
BEGIN:VEVENT
DTSTART;TZID=America/Toronto:20250813T180000
DTEND;TZID=America/Toronto:20250813T190000
DTSTAMP:20260421T161210
CREATED:20250618T181918Z
LAST-MODIFIED:20250709T161949Z
UID:10003932-1755108000-1755111600@stignace.com
SUMMARY:Wacky Wednesdays
DESCRIPTION:St. Ignace Wacky Wednesdays are a lively weekly celebration of family fun and surprise entertainment.  \nEvery Wednesday from 6:00 p.m. to 7:00 p.m.\, held at Zac & Mac’s Pocket Park (near First National Bank)\,  \nexpect to be delighted by a rotating lineup of quirky street performers—including jugglers\, live statues\, comedians\,  \nand spontaneous interactive acts—creating a festive midweek break in a friendly community atmosphere.  \nWhether you’re bringing the kids or just enjoying a casual stroll downtown\, \nWacky Wednesdays add a playful touch to your summer evenings in St. Ignace. \nChildren’s Entertainment Jugglers \nJuly 2 – Jania Taylor \nJuly 9 – Chet Mitchell \nJuly 16 – Jania Taylor \nJuly 23 – Chet Mitchell \nJuly 30 – Chet Mitchell \n • • \nAugust 6 – Jania Taylor \nAugust 13 – Jania Taylor \nAugust 20 – Chet Mitchell \nAugust 27 – Jania Taylor
URL:https://stignace.com/event/wacky-wednesday-2/2025-08-13/
LOCATION:260 N State St\, St Ignace\, MI 49781\, 260 N State St\, St. Ignace\, Michigan\, 49781
CATEGORIES:Family Fun,Summer Evenings
ATTACH;FMTTYPE=image/jpeg:https://stignace.com/wp-content/uploads/2025/06/01-Wacky-Wednesdays.jpg
END:VEVENT
BEGIN:VEVENT
DTSTART;TZID=America/Toronto:20250806T180000
DTEND;TZID=America/Toronto:20250806T190000
DTSTAMP:20260421T161210
CREATED:20250618T181918Z
LAST-MODIFIED:20250709T161949Z
UID:10003931-1754503200-1754506800@stignace.com
SUMMARY:Wacky Wednesdays
DESCRIPTION:St. Ignace Wacky Wednesdays are a lively weekly celebration of family fun and surprise entertainment.  \nEvery Wednesday from 6:00 p.m. to 7:00 p.m.\, held at Zac & Mac’s Pocket Park (near First National Bank)\,  \nexpect to be delighted by a rotating lineup of quirky street performers—including jugglers\, live statues\, comedians\,  \nand spontaneous interactive acts—creating a festive midweek break in a friendly community atmosphere.  \nWhether you’re bringing the kids or just enjoying a casual stroll downtown\, \nWacky Wednesdays add a playful touch to your summer evenings in St. Ignace. \nChildren’s Entertainment Jugglers \nJuly 2 – Jania Taylor \nJuly 9 – Chet Mitchell \nJuly 16 – Jania Taylor \nJuly 23 – Chet Mitchell \nJuly 30 – Chet Mitchell \n • • \nAugust 6 – Jania Taylor \nAugust 13 – Jania Taylor \nAugust 20 – Chet Mitchell \nAugust 27 – Jania Taylor
URL:https://stignace.com/event/wacky-wednesday-2/2025-08-06/
LOCATION:260 N State St\, St Ignace\, MI 49781\, 260 N State St\, St. Ignace\, Michigan\, 49781
CATEGORIES:Family Fun,Summer Evenings
ATTACH;FMTTYPE=image/jpeg:https://stignace.com/wp-content/uploads/2025/06/01-Wacky-Wednesdays.jpg
END:VEVENT
BEGIN:VEVENT
DTSTART;TZID=America/Toronto:20250730T180000
DTEND;TZID=America/Toronto:20250730T190000
DTSTAMP:20260421T161210
CREATED:20250618T181918Z
LAST-MODIFIED:20250709T161949Z
UID:10003930-1753898400-1753902000@stignace.com
SUMMARY:Wacky Wednesdays
DESCRIPTION:St. Ignace Wacky Wednesdays are a lively weekly celebration of family fun and surprise entertainment.  \nEvery Wednesday from 6:00 p.m. to 7:00 p.m.\, held at Zac & Mac’s Pocket Park (near First National Bank)\,  \nexpect to be delighted by a rotating lineup of quirky street performers—including jugglers\, live statues\, comedians\,  \nand spontaneous interactive acts—creating a festive midweek break in a friendly community atmosphere.  \nWhether you’re bringing the kids or just enjoying a casual stroll downtown\, \nWacky Wednesdays add a playful touch to your summer evenings in St. Ignace. \nChildren’s Entertainment Jugglers \nJuly 2 – Jania Taylor \nJuly 9 – Chet Mitchell \nJuly 16 – Jania Taylor \nJuly 23 – Chet Mitchell \nJuly 30 – Chet Mitchell \n • • \nAugust 6 – Jania Taylor \nAugust 13 – Jania Taylor \nAugust 20 – Chet Mitchell \nAugust 27 – Jania Taylor
URL:https://stignace.com/event/wacky-wednesday-2/2025-07-30/
LOCATION:260 N State St\, St Ignace\, MI 49781\, 260 N State St\, St. Ignace\, Michigan\, 49781
CATEGORIES:Family Fun,Summer Evenings
ATTACH;FMTTYPE=image/jpeg:https://stignace.com/wp-content/uploads/2025/06/01-Wacky-Wednesdays.jpg
END:VEVENT
BEGIN:VEVENT
DTSTART;TZID=America/Toronto:20250723T180000
DTEND;TZID=America/Toronto:20250723T190000
DTSTAMP:20260421T161210
CREATED:20250618T181918Z
LAST-MODIFIED:20250709T161949Z
UID:10003929-1753293600-1753297200@stignace.com
SUMMARY:Wacky Wednesdays
DESCRIPTION:St. Ignace Wacky Wednesdays are a lively weekly celebration of family fun and surprise entertainment.  \nEvery Wednesday from 6:00 p.m. to 7:00 p.m.\, held at Zac & Mac’s Pocket Park (near First National Bank)\,  \nexpect to be delighted by a rotating lineup of quirky street performers—including jugglers\, live statues\, comedians\,  \nand spontaneous interactive acts—creating a festive midweek break in a friendly community atmosphere.  \nWhether you’re bringing the kids or just enjoying a casual stroll downtown\, \nWacky Wednesdays add a playful touch to your summer evenings in St. Ignace. \nChildren’s Entertainment Jugglers \nJuly 2 – Jania Taylor \nJuly 9 – Chet Mitchell \nJuly 16 – Jania Taylor \nJuly 23 – Chet Mitchell \nJuly 30 – Chet Mitchell \n • • \nAugust 6 – Jania Taylor \nAugust 13 – Jania Taylor \nAugust 20 – Chet Mitchell \nAugust 27 – Jania Taylor
URL:https://stignace.com/event/wacky-wednesday-2/2025-07-23/
LOCATION:260 N State St\, St Ignace\, MI 49781\, 260 N State St\, St. Ignace\, Michigan\, 49781
CATEGORIES:Family Fun,Summer Evenings
ATTACH;FMTTYPE=image/jpeg:https://stignace.com/wp-content/uploads/2025/06/01-Wacky-Wednesdays.jpg
END:VEVENT
BEGIN:VEVENT
DTSTART;TZID=America/Toronto:20250716T180000
DTEND;TZID=America/Toronto:20250716T190000
DTSTAMP:20260421T161210
CREATED:20250618T181918Z
LAST-MODIFIED:20250709T161949Z
UID:10003928-1752688800-1752692400@stignace.com
SUMMARY:Wacky Wednesdays
DESCRIPTION:St. Ignace Wacky Wednesdays are a lively weekly celebration of family fun and surprise entertainment.  \nEvery Wednesday from 6:00 p.m. to 7:00 p.m.\, held at Zac & Mac’s Pocket Park (near First National Bank)\,  \nexpect to be delighted by a rotating lineup of quirky street performers—including jugglers\, live statues\, comedians\,  \nand spontaneous interactive acts—creating a festive midweek break in a friendly community atmosphere.  \nWhether you’re bringing the kids or just enjoying a casual stroll downtown\, \nWacky Wednesdays add a playful touch to your summer evenings in St. Ignace. \nChildren’s Entertainment Jugglers \nJuly 2 – Jania Taylor \nJuly 9 – Chet Mitchell \nJuly 16 – Jania Taylor \nJuly 23 – Chet Mitchell \nJuly 30 – Chet Mitchell \n • • \nAugust 6 – Jania Taylor \nAugust 13 – Jania Taylor \nAugust 20 – Chet Mitchell \nAugust 27 – Jania Taylor
URL:https://stignace.com/event/wacky-wednesday-2/2025-07-16/
LOCATION:260 N State St\, St Ignace\, MI 49781\, 260 N State St\, St. Ignace\, Michigan\, 49781
CATEGORIES:Family Fun,Summer Evenings
ATTACH;FMTTYPE=image/jpeg:https://stignace.com/wp-content/uploads/2025/06/01-Wacky-Wednesdays.jpg
END:VEVENT
BEGIN:VEVENT
DTSTART;TZID=America/Toronto:20250709T180000
DTEND;TZID=America/Toronto:20250709T190000
DTSTAMP:20260421T161210
CREATED:20250618T181918Z
LAST-MODIFIED:20250709T161949Z
UID:10003927-1752084000-1752087600@stignace.com
SUMMARY:Wacky Wednesdays
DESCRIPTION:St. Ignace Wacky Wednesdays are a lively weekly celebration of family fun and surprise entertainment.  \nEvery Wednesday from 6:00 p.m. to 7:00 p.m.\, held at Zac & Mac’s Pocket Park (near First National Bank)\,  \nexpect to be delighted by a rotating lineup of quirky street performers—including jugglers\, live statues\, comedians\,  \nand spontaneous interactive acts—creating a festive midweek break in a friendly community atmosphere.  \nWhether you’re bringing the kids or just enjoying a casual stroll downtown\, \nWacky Wednesdays add a playful touch to your summer evenings in St. Ignace. \nChildren’s Entertainment Jugglers \nJuly 2 – Jania Taylor \nJuly 9 – Chet Mitchell \nJuly 16 – Jania Taylor \nJuly 23 – Chet Mitchell \nJuly 30 – Chet Mitchell \n • • \nAugust 6 – Jania Taylor \nAugust 13 – Jania Taylor \nAugust 20 – Chet Mitchell \nAugust 27 – Jania Taylor
URL:https://stignace.com/event/wacky-wednesday-2/2025-07-09/
LOCATION:260 N State St\, St Ignace\, MI 49781\, 260 N State St\, St. Ignace\, Michigan\, 49781
CATEGORIES:Family Fun,Summer Evenings
ATTACH;FMTTYPE=image/jpeg:https://stignace.com/wp-content/uploads/2025/06/01-Wacky-Wednesdays.jpg
END:VEVENT
BEGIN:VEVENT
DTSTART;TZID=America/Toronto:20250702T180000
DTEND;TZID=America/Toronto:20250702T190000
DTSTAMP:20260421T161211
CREATED:20250618T181918Z
LAST-MODIFIED:20250709T161949Z
UID:10003926-1751479200-1751482800@stignace.com
SUMMARY:Wacky Wednesdays
DESCRIPTION:St. Ignace Wacky Wednesdays are a lively weekly celebration of family fun and surprise entertainment.  \nEvery Wednesday from 6:00 p.m. to 7:00 p.m.\, held at Zac & Mac’s Pocket Park (near First National Bank)\,  \nexpect to be delighted by a rotating lineup of quirky street performers—including jugglers\, live statues\, comedians\,  \nand spontaneous interactive acts—creating a festive midweek break in a friendly community atmosphere.  \nWhether you’re bringing the kids or just enjoying a casual stroll downtown\, \nWacky Wednesdays add a playful touch to your summer evenings in St. Ignace. \nChildren’s Entertainment Jugglers \nJuly 2 – Jania Taylor \nJuly 9 – Chet Mitchell \nJuly 16 – Jania Taylor \nJuly 23 – Chet Mitchell \nJuly 30 – Chet Mitchell \n • • \nAugust 6 – Jania Taylor \nAugust 13 – Jania Taylor \nAugust 20 – Chet Mitchell \nAugust 27 – Jania Taylor
URL:https://stignace.com/event/wacky-wednesday-2/2025-07-02/
LOCATION:260 N State St\, St Ignace\, MI 49781\, 260 N State St\, St. Ignace\, Michigan\, 49781
CATEGORIES:Family Fun,Summer Evenings
ATTACH;FMTTYPE=image/jpeg:https://stignace.com/wp-content/uploads/2025/06/01-Wacky-Wednesdays.jpg
END:VEVENT
END:VCALENDAR