BEGIN:VCALENDAR
VERSION:2.0
PRODID:-// - ECPv6.15.20//NONSGML v1.0//EN
CALSCALE:GREGORIAN
METHOD:PUBLISH
X-ORIGINAL-URL:https://stignace.com
X-WR-CALDESC:Events for 
REFRESH-INTERVAL;VALUE=DURATION:PT1H
X-Robots-Tag:noindex
X-PUBLISHED-TTL:PT1H
BEGIN:VTIMEZONE
TZID:America/Toronto
BEGIN:DAYLIGHT
TZOFFSETFROM:-0500
TZOFFSETTO:-0400
TZNAME:EDT
DTSTART:20230312T070000
END:DAYLIGHT
BEGIN:STANDARD
TZOFFSETFROM:-0400
TZOFFSETTO:-0500
TZNAME:EST
DTSTART:20231105T060000
END:STANDARD
BEGIN:DAYLIGHT
TZOFFSETFROM:-0500
TZOFFSETTO:-0400
TZNAME:EDT
DTSTART:20240310T070000
END:DAYLIGHT
BEGIN:STANDARD
TZOFFSETFROM:-0400
TZOFFSETTO:-0500
TZNAME:EST
DTSTART:20241103T060000
END:STANDARD
BEGIN:DAYLIGHT
TZOFFSETFROM:-0500
TZOFFSETTO:-0400
TZNAME:EDT
DTSTART:20250309T070000
END:DAYLIGHT
BEGIN:STANDARD
TZOFFSETFROM:-0400
TZOFFSETTO:-0500
TZNAME:EST
DTSTART:20251102T060000
END:STANDARD
BEGIN:DAYLIGHT
TZOFFSETFROM:-0500
TZOFFSETTO:-0400
TZNAME:EDT
DTSTART:20260308T070000
END:DAYLIGHT
BEGIN:STANDARD
TZOFFSETFROM:-0400
TZOFFSETTO:-0500
TZNAME:EST
DTSTART:20261101T060000
END:STANDARD
END:VTIMEZONE
BEGIN:VEVENT
DTSTART;TZID=America/Toronto:20250626T220000
DTEND;TZID=America/Toronto:20250626T233000
DTSTAMP:20260420T221616
CREATED:20250610T173039Z
LAST-MODIFIED:20250703T143229Z
UID:10003445-1750975200-1750980600@stignace.com
SUMMARY:Movies by the Bay
DESCRIPTION:Movies by the Bay is returning this year for just three dates so make sure you don’t miss out! Movies are shown at dusk at American Legion Park. \nConcessions are available for sale with proceeds benefiting Moose Lodge 999. \nJune 26: Gran Turismo \nJuly 5: Sand Lot \nAugust 8: Despicable Me 4
URL:https://stignace.com/event/movies-by-the-bay/2025-06-26/
LOCATION:American Legion Memorial Park\, 200 N. State Street\, St. Ignace\, MI\, 49781\, United States
CATEGORIES:Family Fun,Movies,Summer Evenings
ATTACH;FMTTYPE=image/jpeg:https://stignace.com/wp-content/uploads/2018/03/Movies-By-The-Bay.jpg
ORGANIZER;CN="St. Ignace Visitors Bureau":MAILTO:info@stignace.com
GEO:45.8827395;-84.725427
X-APPLE-STRUCTURED-LOCATION;VALUE=URI;X-ADDRESS=American Legion Memorial Park 200 N. State Street St. Ignace MI 49781 United States;X-APPLE-RADIUS=500;X-TITLE=200 N. State Street:geo:-84.725427,45.8827395
END:VEVENT
BEGIN:VEVENT
DTSTART;TZID=America/Toronto:20240825T160000
DTEND;TZID=America/Toronto:20240825T190000
DTSTAMP:20260420T221616
CREATED:20240123T163342Z
LAST-MODIFIED:20240805T184558Z
UID:10001540-1724601600-1724612400@stignace.com
SUMMARY:Beach Bash
DESCRIPTION:Beach Bash on Sundays at Kiwanis Beach from 4pm-7 pm. \nLive music\, and St. Ignace beach balls are great for all kinds of games\, and you can take them home with you! Kayak rentals are available at the beach. \nKiwanis Beach Bash\nLive Music\n\nJuly 7 – Mighty Hiawatha Band\nJuly 14 – Mark Bowen Band\nJuly 21 – Emily Springsteen\nJuly 28 – Vertigo\nAug 4 – Pete “BIG DOG” Fetters\n\n\nAugust 11 – Catholic Girls Gone Bad\nAugust 18 – Aisle 8\nAugust 25 – Just Jammin’\nSeptember 1 – Hey Dudez
URL:https://stignace.com/event/beach-bash/2024-08-25/
CATEGORIES:Family Fun
ORGANIZER;CN="St. Ignace Visitors Bureau":MAILTO:info@stignace.com
END:VEVENT
BEGIN:VEVENT
DTSTART;TZID=America/Toronto:20240818T160000
DTEND;TZID=America/Toronto:20240818T190000
DTSTAMP:20260420T221616
CREATED:20240123T163342Z
LAST-MODIFIED:20240805T184558Z
UID:10001539-1723996800-1724007600@stignace.com
SUMMARY:Beach Bash
DESCRIPTION:Beach Bash on Sundays at Kiwanis Beach from 4pm-7 pm. \nLive music\, and St. Ignace beach balls are great for all kinds of games\, and you can take them home with you! Kayak rentals are available at the beach. \nKiwanis Beach Bash\nLive Music\n\nJuly 7 – Mighty Hiawatha Band\nJuly 14 – Mark Bowen Band\nJuly 21 – Emily Springsteen\nJuly 28 – Vertigo\nAug 4 – Pete “BIG DOG” Fetters\n\n\nAugust 11 – Catholic Girls Gone Bad\nAugust 18 – Aisle 8\nAugust 25 – Just Jammin’\nSeptember 1 – Hey Dudez
URL:https://stignace.com/event/beach-bash/2024-08-18/
CATEGORIES:Family Fun
ORGANIZER;CN="St. Ignace Visitors Bureau":MAILTO:info@stignace.com
END:VEVENT
BEGIN:VEVENT
DTSTART;TZID=America/Toronto:20240811T160000
DTEND;TZID=America/Toronto:20240811T190000
DTSTAMP:20260420T221616
CREATED:20240123T163342Z
LAST-MODIFIED:20240805T184558Z
UID:10001538-1723392000-1723402800@stignace.com
SUMMARY:Beach Bash
DESCRIPTION:Beach Bash on Sundays at Kiwanis Beach from 4pm-7 pm. \nLive music\, and St. Ignace beach balls are great for all kinds of games\, and you can take them home with you! Kayak rentals are available at the beach. \nKiwanis Beach Bash\nLive Music\n\nJuly 7 – Mighty Hiawatha Band\nJuly 14 – Mark Bowen Band\nJuly 21 – Emily Springsteen\nJuly 28 – Vertigo\nAug 4 – Pete “BIG DOG” Fetters\n\n\nAugust 11 – Catholic Girls Gone Bad\nAugust 18 – Aisle 8\nAugust 25 – Just Jammin’\nSeptember 1 – Hey Dudez
URL:https://stignace.com/event/beach-bash/2024-08-11/
CATEGORIES:Family Fun
ORGANIZER;CN="St. Ignace Visitors Bureau":MAILTO:info@stignace.com
END:VEVENT
END:VCALENDAR