BEGIN:VCALENDAR
VERSION:2.0
PRODID:-// - ECPv6.15.20//NONSGML v1.0//EN
CALSCALE:GREGORIAN
METHOD:PUBLISH
X-ORIGINAL-URL:https://stignace.com
X-WR-CALDESC:Events for 
REFRESH-INTERVAL;VALUE=DURATION:PT1H
X-Robots-Tag:noindex
X-PUBLISHED-TTL:PT1H
BEGIN:VTIMEZONE
TZID:America/Toronto
BEGIN:DAYLIGHT
TZOFFSETFROM:-0500
TZOFFSETTO:-0400
TZNAME:EDT
DTSTART:20230312T070000
END:DAYLIGHT
BEGIN:STANDARD
TZOFFSETFROM:-0400
TZOFFSETTO:-0500
TZNAME:EST
DTSTART:20231105T060000
END:STANDARD
BEGIN:DAYLIGHT
TZOFFSETFROM:-0500
TZOFFSETTO:-0400
TZNAME:EDT
DTSTART:20240310T070000
END:DAYLIGHT
BEGIN:STANDARD
TZOFFSETFROM:-0400
TZOFFSETTO:-0500
TZNAME:EST
DTSTART:20241103T060000
END:STANDARD
BEGIN:DAYLIGHT
TZOFFSETFROM:-0500
TZOFFSETTO:-0400
TZNAME:EDT
DTSTART:20250309T070000
END:DAYLIGHT
BEGIN:STANDARD
TZOFFSETFROM:-0400
TZOFFSETTO:-0500
TZNAME:EST
DTSTART:20251102T060000
END:STANDARD
END:VTIMEZONE
BEGIN:VEVENT
DTSTART;TZID=America/Toronto:20240723T180000
DTEND;TZID=America/Toronto:20240723T190000
DTSTAMP:20260422T165124
CREATED:20240807T153528Z
LAST-MODIFIED:20240812T125831Z
UID:10002192-1721757600-1721761200@stignace.com
SUMMARY:Traditional Native American Teachings
DESCRIPTION:Monday and Tuesday evenings from 6:00 to 7:00 are Culture Teachings. Come and learn about the traditional ways of the Ojibwa people and how those teachings are still carried on today. Frances Wyers\, Museum Cultural Director and a Member of the Sault Tribe of Chippewa Indians will present these rich cultural teachings. Handouts of segments of the teachings will be available.
URL:https://stignace.com/event/traditional-native-american-teachings/2024-07-23/
CATEGORIES:History
END:VEVENT
BEGIN:VEVENT
DTSTART;TZID=America/Toronto:20240722T180000
DTEND;TZID=America/Toronto:20240722T190000
DTSTAMP:20260422T165124
CREATED:20240807T153528Z
LAST-MODIFIED:20240812T125831Z
UID:10002191-1721671200-1721674800@stignace.com
SUMMARY:Traditional Native American Teachings
DESCRIPTION:Monday and Tuesday evenings from 6:00 to 7:00 are Culture Teachings. Come and learn about the traditional ways of the Ojibwa people and how those teachings are still carried on today. Frances Wyers\, Museum Cultural Director and a Member of the Sault Tribe of Chippewa Indians will present these rich cultural teachings. Handouts of segments of the teachings will be available.
URL:https://stignace.com/event/traditional-native-american-teachings/2024-07-22/
CATEGORIES:History
END:VEVENT
BEGIN:VEVENT
DTSTART;TZID=America/Toronto:20240716T180000
DTEND;TZID=America/Toronto:20240716T190000
DTSTAMP:20260422T165124
CREATED:20240807T153528Z
LAST-MODIFIED:20240812T125831Z
UID:10002190-1721152800-1721156400@stignace.com
SUMMARY:Traditional Native American Teachings
DESCRIPTION:Monday and Tuesday evenings from 6:00 to 7:00 are Culture Teachings. Come and learn about the traditional ways of the Ojibwa people and how those teachings are still carried on today. Frances Wyers\, Museum Cultural Director and a Member of the Sault Tribe of Chippewa Indians will present these rich cultural teachings. Handouts of segments of the teachings will be available.
URL:https://stignace.com/event/traditional-native-american-teachings/2024-07-16/
CATEGORIES:History
END:VEVENT
BEGIN:VEVENT
DTSTART;TZID=America/Toronto:20240715T180000
DTEND;TZID=America/Toronto:20240715T190000
DTSTAMP:20260422T165124
CREATED:20240807T153528Z
LAST-MODIFIED:20240812T125831Z
UID:10002189-1721066400-1721070000@stignace.com
SUMMARY:Traditional Native American Teachings
DESCRIPTION:Monday and Tuesday evenings from 6:00 to 7:00 are Culture Teachings. Come and learn about the traditional ways of the Ojibwa people and how those teachings are still carried on today. Frances Wyers\, Museum Cultural Director and a Member of the Sault Tribe of Chippewa Indians will present these rich cultural teachings. Handouts of segments of the teachings will be available.
URL:https://stignace.com/event/traditional-native-american-teachings/2024-07-15/
CATEGORIES:History
END:VEVENT
BEGIN:VEVENT
DTSTART;TZID=America/Toronto:20240709T180000
DTEND;TZID=America/Toronto:20240709T190000
DTSTAMP:20260422T165124
CREATED:20240807T153528Z
LAST-MODIFIED:20240812T125831Z
UID:10002188-1720548000-1720551600@stignace.com
SUMMARY:Traditional Native American Teachings
DESCRIPTION:Monday and Tuesday evenings from 6:00 to 7:00 are Culture Teachings. Come and learn about the traditional ways of the Ojibwa people and how those teachings are still carried on today. Frances Wyers\, Museum Cultural Director and a Member of the Sault Tribe of Chippewa Indians will present these rich cultural teachings. Handouts of segments of the teachings will be available.
URL:https://stignace.com/event/traditional-native-american-teachings/2024-07-09/
CATEGORIES:History
END:VEVENT
BEGIN:VEVENT
DTSTART;TZID=America/Toronto:20240708T180000
DTEND;TZID=America/Toronto:20240708T190000
DTSTAMP:20260422T165124
CREATED:20240807T153528Z
LAST-MODIFIED:20240812T125831Z
UID:10002187-1720461600-1720465200@stignace.com
SUMMARY:Traditional Native American Teachings
DESCRIPTION:Monday and Tuesday evenings from 6:00 to 7:00 are Culture Teachings. Come and learn about the traditional ways of the Ojibwa people and how those teachings are still carried on today. Frances Wyers\, Museum Cultural Director and a Member of the Sault Tribe of Chippewa Indians will present these rich cultural teachings. Handouts of segments of the teachings will be available.
URL:https://stignace.com/event/traditional-native-american-teachings/2024-07-08/
CATEGORIES:History
END:VEVENT
END:VCALENDAR