BEGIN:VCALENDAR
VERSION:2.0
PRODID:-// - ECPv6.15.20//NONSGML v1.0//EN
CALSCALE:GREGORIAN
METHOD:PUBLISH
X-ORIGINAL-URL:https://stignace.com
X-WR-CALDESC:Events for 
REFRESH-INTERVAL;VALUE=DURATION:PT1H
X-Robots-Tag:noindex
X-PUBLISHED-TTL:PT1H
BEGIN:VTIMEZONE
TZID:America/Detroit
BEGIN:DAYLIGHT
TZOFFSETFROM:-0500
TZOFFSETTO:-0400
TZNAME:EDT
DTSTART:20250309T070000
END:DAYLIGHT
BEGIN:STANDARD
TZOFFSETFROM:-0400
TZOFFSETTO:-0500
TZNAME:EST
DTSTART:20251102T060000
END:STANDARD
BEGIN:DAYLIGHT
TZOFFSETFROM:-0500
TZOFFSETTO:-0400
TZNAME:EDT
DTSTART:20260308T070000
END:DAYLIGHT
BEGIN:STANDARD
TZOFFSETFROM:-0400
TZOFFSETTO:-0500
TZNAME:EST
DTSTART:20261101T060000
END:STANDARD
BEGIN:DAYLIGHT
TZOFFSETFROM:-0500
TZOFFSETTO:-0400
TZNAME:EDT
DTSTART:20270314T070000
END:DAYLIGHT
BEGIN:STANDARD
TZOFFSETFROM:-0400
TZOFFSETTO:-0500
TZNAME:EST
DTSTART:20271107T060000
END:STANDARD
END:VTIMEZONE
BEGIN:VTIMEZONE
TZID:America/Toronto
BEGIN:DAYLIGHT
TZOFFSETFROM:-0500
TZOFFSETTO:-0400
TZNAME:EDT
DTSTART:20250309T070000
END:DAYLIGHT
BEGIN:STANDARD
TZOFFSETFROM:-0400
TZOFFSETTO:-0500
TZNAME:EST
DTSTART:20251102T060000
END:STANDARD
BEGIN:DAYLIGHT
TZOFFSETFROM:-0500
TZOFFSETTO:-0400
TZNAME:EDT
DTSTART:20260308T070000
END:DAYLIGHT
BEGIN:STANDARD
TZOFFSETFROM:-0400
TZOFFSETTO:-0500
TZNAME:EST
DTSTART:20261101T060000
END:STANDARD
BEGIN:DAYLIGHT
TZOFFSETFROM:-0500
TZOFFSETTO:-0400
TZNAME:EDT
DTSTART:20270314T070000
END:DAYLIGHT
BEGIN:STANDARD
TZOFFSETFROM:-0400
TZOFFSETTO:-0500
TZNAME:EST
DTSTART:20271107T060000
END:STANDARD
END:VTIMEZONE
BEGIN:VEVENT
DTSTART;TZID=America/Detroit:20260501T080000
DTEND;TZID=America/Detroit:20260502T170000
DTSTAMP:20260419T130829
CREATED:20251208T182023Z
LAST-MODIFIED:20251208T182023Z
UID:10003969-1777622400-1777741200@stignace.com
SUMMARY:Friends of the St. Ignace Library Book Sale
DESCRIPTION:All proceeds go towards supporting the mission of the St. Ignace Public Library. This year\, the library will host 3 sales: January 9-10\, May 1-2\, September 4-5\, 2026
URL:https://stignace.com/event/friends-of-the-st-ignace-library-book-sale/2026-05-01/
LOCATION:MI
END:VEVENT
BEGIN:VEVENT
DTSTART;VALUE=DATE:20260508
DTEND;VALUE=DATE:20260511
DTSTAMP:20260419T130829
CREATED:20260121T172420Z
LAST-MODIFIED:20260312T163159Z
UID:10004117-1778230800-1778403599@stignace.com
SUMMARY:Jeep The Mac
DESCRIPTION:Jeep The Mac\nMay 8–9\, 2026\nEvery spring\, Jeep® enthusiasts from across the Midwest roll into St. Ignace for Jeep the Mac—a weekend dedicated to off-road adventure\, community\, and the rugged beauty of Michigan’s Upper Peninsula. The event features a Mackinac Bridge parade\, scenic trail rides\, vendor displays\, and evening socials\, all framed by the stunning views of the Straits of Mackinac. \nA highlight of the weekend is the iconic Jeep parade across the Mackinac Bridge\, a one-of-a-kind experience that unites drivers from both peninsulas. Bridge construction paused the crossing for two years\, but we are back on track for 2026. \nJoin us this spring to explore\, connect\, and experience St. Ignace in high gear. \n\nPlay\n \nAgenda\nFriday\, May 8\n7:30-9:30 AM: Packet Pickup at Little Bear East Arena (275 Marquette St.) \n9:45 AM: Mandatory Drivers Meeting \n10:00 AM: Mackinac Bridge Crossing \n11AM-4PM: Photo scavenger hunt \n5-8PM: Meet and Greet with vendors\, live music\, food and drink (included in registration)\, raffles\, bounce houses\, etc. \nDUSK: Drone Show \nSaturday\, May 9\n10 AM: Trail riding \n8:30 PM: staging for parade\, which leaves at 9:30 PM (location will be included in packet) \n\nRegistration includes:\nBridge Fare \nFood Voucher \nDrink Voucher \nCommemorative Decal \n$10 Free Slot Play at Kewadin Casino (3015 Mackinac Trl) \nGift \nRegistration is $35 per driver\, $25 per passenger\, children 12 and under are free (but do not get any registration items) \n\npre-order 2026 T-Shirts Here\n \nDeadline for ordering apparel for pickup at registration is Friday\, April 24\, at 5pm. \nA limited number of shirts will be available for onsite purchase\, and online ordering will re-open for post-event shipping. Please note that if you select to have your shirt shipped to you\, whether you are ordering before or after the event\, the shirts will be shipped AFTER the event. \nRegister Now\nRegistration is now open for 2026. \nRegistration will close on Friday\, April 24th at 5PM. There will be no onsite registration. \nRegister early – registration is subject to closing at any time if we reach the event’s capacity. If you need to cancel your registration more than 30 days before the event\, you will get a refund less a $5 cancellation fee. No refunds less than 30 days before the event. No onsite registration. \nYou are responsible for having any required ORV licenses or permits.  Click here to visit the website to read or obtain a copy of “The Handbook of Michigan Off-Road Vehicle Laws and Riding Basics”.  You can download the handbook to your computer for free\, or there are iBook and Nook versions that can be downloaded for $1.99.  [An ORV license is required if the ORV will be used anywhere other than private property\, and an ORV trail permit is required to operate on state-designated ORV trails\, routes or areas. As far as helmet requirements\, all ORV operators and passengers must wear a U.S. Department of Transportation approved crash helmet and protective eyewear\, except when the operator and passenger are wearing properly adjusted and fastened safety belts in an ORV equipped with a roof that meets or exceeds the standards for a crash helmet.] (Excerpts from the handbook listed above.) \n\nRegistration\n \n  \nORV Trails \nBook Your Stay \n\nBack to Major Events\n\n\nBack to Calendar
URL:https://stignace.com/event/jeep-the-mac/
LOCATION:Little Bear East Ice Arena\, 275 Marquette Street\, St. Ignace\, MI\, 49781\, United States
CATEGORIES:Event
ATTACH;FMTTYPE=image/jpeg:https://stignace.com/wp-content/uploads/2018/03/Jeep-the-Mac-Staging-Area.jpg
ORGANIZER;CN="St. Ignace Visitors Bureau":MAILTO:info@stignace.com
GEO:45.8724612;-84.7342368
X-APPLE-STRUCTURED-LOCATION;VALUE=URI;X-ADDRESS=Little Bear East Ice Arena 275 Marquette Street St. Ignace MI 49781 United States;X-APPLE-RADIUS=500;X-TITLE=275 Marquette Street:geo:-84.7342368,45.8724612
END:VEVENT
BEGIN:VEVENT
DTSTART;TZID=America/Detroit:20260508T213000
DTEND;TZID=America/Detroit:20260508T220000
DTSTAMP:20260419T130829
CREATED:20260128T143435Z
LAST-MODIFIED:20260128T150609Z
UID:10003986-1778275800-1778277600@stignace.com
SUMMARY:Drone Show Series 2026
DESCRIPTION:Experience the magic of the night sky during the St. Ignace Drone Show Series\, when hundreds of synchronized drones light up over the waterfront in a choreographed display set to music. These state-of-the-art shows blend art and technology to create custom shapes and animations that move across the sky in real time. \nShows take place over the downtown waterfront\, with the best viewing near the St. Ignace Marina. Bring a blanket or chair and settle in early for a good spot. Some nights include a synced soundtrack that you can access by scanning a QR code and entering the show code\, so you can hear the music even if you are watching from farther down the shoreline.
URL:https://stignace.com/event/st-ignace-summer-drone-show-series-2026/2026-05-08/
LOCATION:Downtown St. Ignace\, St. Ignace\, MI\, 49781\, United States
CATEGORIES:Family Fun,Summer Evenings
ATTACH;FMTTYPE=image/jpeg:https://stignace.com/wp-content/uploads/2025/05/Drone-Light-Show.jpg
ORGANIZER;CN="St. Ignace Visitors Bureau":MAILTO:info@stignace.com
END:VEVENT
BEGIN:VEVENT
DTSTART;TZID=America/Detroit:20260522T220000
DTEND;TZID=America/Detroit:20260522T223000
DTSTAMP:20260419T130829
CREATED:20260128T143435Z
LAST-MODIFIED:20260128T150609Z
UID:10003987-1779487200-1779489000@stignace.com
SUMMARY:Drone Show Series 2026
DESCRIPTION:Experience the magic of the night sky during the St. Ignace Drone Show Series\, when hundreds of synchronized drones light up over the waterfront in a choreographed display set to music. These state-of-the-art shows blend art and technology to create custom shapes and animations that move across the sky in real time. \nShows take place over the downtown waterfront\, with the best viewing near the St. Ignace Marina. Bring a blanket or chair and settle in early for a good spot. Some nights include a synced soundtrack that you can access by scanning a QR code and entering the show code\, so you can hear the music even if you are watching from farther down the shoreline.
URL:https://stignace.com/event/st-ignace-summer-drone-show-series-2026/2026-05-22/
LOCATION:Downtown St. Ignace\, St. Ignace\, MI\, 49781\, United States
CATEGORIES:Family Fun,Summer Evenings
ATTACH;FMTTYPE=image/jpeg:https://stignace.com/wp-content/uploads/2025/05/Drone-Light-Show.jpg
ORGANIZER;CN="St. Ignace Visitors Bureau":MAILTO:info@stignace.com
END:VEVENT
BEGIN:VEVENT
DTSTART;TZID=America/Detroit:20260523T093000
DTEND;TZID=America/Detroit:20260523T220000
DTSTAMP:20260419T130829
CREATED:20260128T135849Z
LAST-MODIFIED:20260203T141917Z
UID:10003973-1779528600-1779573600@stignace.com
SUMMARY:Fireworks Over the Bay 2026
DESCRIPTION:St. Ignace lights up the sky with a free fireworks show over Moran Bay sponsored by Arnold Transit Company. \nThe display begins just after dusk\, and can be enjoyed from several scenic spots along the downtown waterfront\, including the Huron Boardwalk\, American Legion Park\, Kiwanis Beach\, and areas along N. State Street. \nIt’s the perfect way to end a summer day in St. Ignace—bring a blanket or chair and take in the show with friends\, family\, or fellow visitors along the shores of the Straits.
URL:https://stignace.com/event/fireworks-over-the-bay-2026/2026-05-23/
LOCATION:Moran Bay\, Lake Huron\, St. Ignace\, MI\, 49781\, United States
CATEGORIES:Fireworks
ATTACH;FMTTYPE=image/jpeg:https://stignace.com/wp-content/uploads/2024/12/01-Fireworks-over-the-bay.jpg
ORGANIZER;CN="St. Ignace Visitors Bureau":MAILTO:info@stignace.com
END:VEVENT
BEGIN:VEVENT
DTSTART;TZID=America/Toronto:20260523T100000
DTEND;TZID=America/Toronto:20260523T180000
DTSTAMP:20260419T130829
CREATED:20170121T173828Z
LAST-MODIFIED:20260323T194418Z
UID:10000420-1779530400-1779559200@stignace.com
SUMMARY:Native American Festival
DESCRIPTION:St. Ignace Annual Native American Festival\nMay 23\, 2026\nCelebrating a heritage rich in creativity and tradition\, the St. Ignace Annual Native American Festival invites visitors to experience the living culture of the Anishinaabe people. \nSet near the shores of Lake Huron\, the festival fills the grounds of the Museum of Ojibwa Culture with energy\, pride\, and community spirit. Drummers\, dancers\, artists\, and storytellers come together to honor traditions that have endured for generations. Visitors are invited to listen to the heartbeat of the drums\, witness expressive dances\, and experience the beauty of handcrafted art\, birch bark\, porcupine quills\, and other natural materials shaped by both function and artistry. The scents of sacred medicines and the flavors of traditional foods complete this celebration of the senses. \nThe festival is dedicated to preserving and revitalizing Anishinaabe arts and culture while inspiring pride in heritage and community. Admission is free\, and all are welcome to join in this vibrant celebration. \n“It is an honor and a privilege to host an event that shares the living traditions and stories of the Anishinaabe people\,” said Museum Director Shirley Sorrels. “Their contributions continue to enrich our museum and deepen our understanding of Native American history and the First People who called this place home.” \n							\n													 \nSign up for the St. Ignace newsletter to receive updates on this and other year round events and activities happening in St. Ignace. \nLocation: Museum of Ojibwa Culture\, 500 N. State StreetPhone: 906-643-9161 \n					\n									Back to Major Events\n					\n					\n									Back to Calendar
URL:https://stignace.com/event/native-american-festival/
LOCATION:Museum of Ojibwa Culture\, 500 North State Street\, St. Ignace\, MI\, 49781\, United States
CATEGORIES:Festival,History
ATTACH;FMTTYPE=image/jpeg:https://stignace.com/wp-content/uploads/2017/02/Native-Dance.jpg
GEO:45.871543;-84.7314305
X-APPLE-STRUCTURED-LOCATION;VALUE=URI;X-ADDRESS=Museum of Ojibwa Culture 500 North State Street St. Ignace MI 49781 United States;X-APPLE-RADIUS=500;X-TITLE=500 North State Street:geo:-84.7314305,45.871543
END:VEVENT
END:VCALENDAR