BEGIN:VCALENDAR
VERSION:2.0
PRODID:-// - ECPv6.15.20//NONSGML v1.0//EN
CALSCALE:GREGORIAN
METHOD:PUBLISH
X-ORIGINAL-URL:https://stignace.com
X-WR-CALDESC:Events for 
REFRESH-INTERVAL;VALUE=DURATION:PT1H
X-Robots-Tag:noindex
X-PUBLISHED-TTL:PT1H
BEGIN:VTIMEZONE
TZID:America/Detroit
BEGIN:DAYLIGHT
TZOFFSETFROM:-0500
TZOFFSETTO:-0400
TZNAME:EDT
DTSTART:20250309T070000
END:DAYLIGHT
BEGIN:STANDARD
TZOFFSETFROM:-0400
TZOFFSETTO:-0500
TZNAME:EST
DTSTART:20251102T060000
END:STANDARD
BEGIN:DAYLIGHT
TZOFFSETFROM:-0500
TZOFFSETTO:-0400
TZNAME:EDT
DTSTART:20260308T070000
END:DAYLIGHT
BEGIN:STANDARD
TZOFFSETFROM:-0400
TZOFFSETTO:-0500
TZNAME:EST
DTSTART:20261101T060000
END:STANDARD
BEGIN:DAYLIGHT
TZOFFSETFROM:-0500
TZOFFSETTO:-0400
TZNAME:EDT
DTSTART:20270314T070000
END:DAYLIGHT
BEGIN:STANDARD
TZOFFSETFROM:-0400
TZOFFSETTO:-0500
TZNAME:EST
DTSTART:20271107T060000
END:STANDARD
END:VTIMEZONE
BEGIN:VEVENT
DTSTART;TZID=America/Detroit:20260605T190000
DTEND;TZID=America/Detroit:20260605T203000
DTSTAMP:20260421T002008
CREATED:20260203T133744Z
LAST-MODIFIED:20260203T141711Z
UID:10003993-1780686000-1780691400@stignace.com
SUMMARY:Music by the Bay
DESCRIPTION:Music by the Bay \nMusic by the Bay brings live summer sound to the waterfront at American Legion Park in St. Ignace. Enjoy an evening of live music with views of Lake Huron and the Mackinac Bridge\, right in the heart of downtown. This concert takes place within St. Ignace’s Social District\, so attendees may purchase a beverage from a participating downtown business and enjoy it responsibly during the show. Bring a chair\, settle in by the bay\, and let summer set the rhythm.
URL:https://stignace.com/event/music-by-the-bay-june-2026/2026-06-05/
LOCATION:American Legion Memorial Park\, 200 N. State Street\, St. Ignace\, MI\, 49781\, United States
CATEGORIES:Music
ATTACH;FMTTYPE=image/jpeg:https://stignace.com/wp-content/uploads/2024/08/Music-by-the-Bay-.jpg
ORGANIZER;CN="St. Ignace Visitors Bureau":MAILTO:info@stignace.com
GEO:45.8827395;-84.725427
X-APPLE-STRUCTURED-LOCATION;VALUE=URI;X-ADDRESS=American Legion Memorial Park 200 N. State Street St. Ignace MI 49781 United States;X-APPLE-RADIUS=500;X-TITLE=200 N. State Street:geo:-84.725427,45.8827395
END:VEVENT
BEGIN:VEVENT
DTSTART;TZID=America/Detroit:20260606T190000
DTEND;TZID=America/Detroit:20260606T203000
DTSTAMP:20260421T002008
CREATED:20260203T133744Z
LAST-MODIFIED:20260203T141711Z
UID:10003994-1780772400-1780777800@stignace.com
SUMMARY:Music by the Bay
DESCRIPTION:Music by the Bay \nMusic by the Bay brings live summer sound to the waterfront at American Legion Park in St. Ignace. Enjoy an evening of live music with views of Lake Huron and the Mackinac Bridge\, right in the heart of downtown. This concert takes place within St. Ignace’s Social District\, so attendees may purchase a beverage from a participating downtown business and enjoy it responsibly during the show. Bring a chair\, settle in by the bay\, and let summer set the rhythm.
URL:https://stignace.com/event/music-by-the-bay-june-2026/2026-06-06/
LOCATION:American Legion Memorial Park\, 200 N. State Street\, St. Ignace\, MI\, 49781\, United States
CATEGORIES:Music
ATTACH;FMTTYPE=image/jpeg:https://stignace.com/wp-content/uploads/2024/08/Music-by-the-Bay-.jpg
ORGANIZER;CN="St. Ignace Visitors Bureau":MAILTO:info@stignace.com
GEO:45.8827395;-84.725427
X-APPLE-STRUCTURED-LOCATION;VALUE=URI;X-ADDRESS=American Legion Memorial Park 200 N. State Street St. Ignace MI 49781 United States;X-APPLE-RADIUS=500;X-TITLE=200 N. State Street:geo:-84.725427,45.8827395
END:VEVENT
BEGIN:VEVENT
DTSTART;TZID=America/Detroit:20260607T190000
DTEND;TZID=America/Detroit:20260607T203000
DTSTAMP:20260421T002008
CREATED:20260203T133744Z
LAST-MODIFIED:20260203T141711Z
UID:10004005-1780858800-1780864200@stignace.com
SUMMARY:Music by the Bay
DESCRIPTION:Music by the Bay \nMusic by the Bay brings live summer sound to the waterfront at American Legion Park in St. Ignace. Enjoy an evening of live music with views of Lake Huron and the Mackinac Bridge\, right in the heart of downtown. This concert takes place within St. Ignace’s Social District\, so attendees may purchase a beverage from a participating downtown business and enjoy it responsibly during the show. Bring a chair\, settle in by the bay\, and let summer set the rhythm.
URL:https://stignace.com/event/music-by-the-bay-june-2026/2026-06-07/
LOCATION:American Legion Memorial Park\, 200 N. State Street\, St. Ignace\, MI\, 49781\, United States
CATEGORIES:Music
ATTACH;FMTTYPE=image/jpeg:https://stignace.com/wp-content/uploads/2024/08/Music-by-the-Bay-.jpg
ORGANIZER;CN="St. Ignace Visitors Bureau":MAILTO:info@stignace.com
GEO:45.8827395;-84.725427
X-APPLE-STRUCTURED-LOCATION;VALUE=URI;X-ADDRESS=American Legion Memorial Park 200 N. State Street St. Ignace MI 49781 United States;X-APPLE-RADIUS=500;X-TITLE=200 N. State Street:geo:-84.725427,45.8827395
END:VEVENT
BEGIN:VEVENT
DTSTART;TZID=America/Detroit:20260612T190000
DTEND;TZID=America/Detroit:20260612T203000
DTSTAMP:20260421T002008
CREATED:20260203T133744Z
LAST-MODIFIED:20260203T141711Z
UID:10003996-1781290800-1781296200@stignace.com
SUMMARY:Music by the Bay
DESCRIPTION:Music by the Bay \nMusic by the Bay brings live summer sound to the waterfront at American Legion Park in St. Ignace. Enjoy an evening of live music with views of Lake Huron and the Mackinac Bridge\, right in the heart of downtown. This concert takes place within St. Ignace’s Social District\, so attendees may purchase a beverage from a participating downtown business and enjoy it responsibly during the show. Bring a chair\, settle in by the bay\, and let summer set the rhythm.
URL:https://stignace.com/event/music-by-the-bay-june-2026/2026-06-12/
LOCATION:American Legion Memorial Park\, 200 N. State Street\, St. Ignace\, MI\, 49781\, United States
CATEGORIES:Music
ATTACH;FMTTYPE=image/jpeg:https://stignace.com/wp-content/uploads/2024/08/Music-by-the-Bay-.jpg
ORGANIZER;CN="St. Ignace Visitors Bureau":MAILTO:info@stignace.com
GEO:45.8827395;-84.725427
X-APPLE-STRUCTURED-LOCATION;VALUE=URI;X-ADDRESS=American Legion Memorial Park 200 N. State Street St. Ignace MI 49781 United States;X-APPLE-RADIUS=500;X-TITLE=200 N. State Street:geo:-84.725427,45.8827395
END:VEVENT
BEGIN:VEVENT
DTSTART;TZID=America/Detroit:20260613T190000
DTEND;TZID=America/Detroit:20260613T203000
DTSTAMP:20260421T002008
CREATED:20260203T133744Z
LAST-MODIFIED:20260203T141711Z
UID:10003997-1781377200-1781382600@stignace.com
SUMMARY:Music by the Bay
DESCRIPTION:Music by the Bay \nMusic by the Bay brings live summer sound to the waterfront at American Legion Park in St. Ignace. Enjoy an evening of live music with views of Lake Huron and the Mackinac Bridge\, right in the heart of downtown. This concert takes place within St. Ignace’s Social District\, so attendees may purchase a beverage from a participating downtown business and enjoy it responsibly during the show. Bring a chair\, settle in by the bay\, and let summer set the rhythm.
URL:https://stignace.com/event/music-by-the-bay-june-2026/2026-06-13/
LOCATION:American Legion Memorial Park\, 200 N. State Street\, St. Ignace\, MI\, 49781\, United States
CATEGORIES:Music
ATTACH;FMTTYPE=image/jpeg:https://stignace.com/wp-content/uploads/2024/08/Music-by-the-Bay-.jpg
ORGANIZER;CN="St. Ignace Visitors Bureau":MAILTO:info@stignace.com
GEO:45.8827395;-84.725427
X-APPLE-STRUCTURED-LOCATION;VALUE=URI;X-ADDRESS=American Legion Memorial Park 200 N. State Street St. Ignace MI 49781 United States;X-APPLE-RADIUS=500;X-TITLE=200 N. State Street:geo:-84.725427,45.8827395
END:VEVENT
BEGIN:VEVENT
DTSTART;TZID=America/Detroit:20260614T190000
DTEND;TZID=America/Detroit:20260614T203000
DTSTAMP:20260421T002008
CREATED:20260203T133744Z
LAST-MODIFIED:20260203T141711Z
UID:10003998-1781463600-1781469000@stignace.com
SUMMARY:Music by the Bay
DESCRIPTION:Music by the Bay \nMusic by the Bay brings live summer sound to the waterfront at American Legion Park in St. Ignace. Enjoy an evening of live music with views of Lake Huron and the Mackinac Bridge\, right in the heart of downtown. This concert takes place within St. Ignace’s Social District\, so attendees may purchase a beverage from a participating downtown business and enjoy it responsibly during the show. Bring a chair\, settle in by the bay\, and let summer set the rhythm.
URL:https://stignace.com/event/music-by-the-bay-june-2026/2026-06-14/
LOCATION:American Legion Memorial Park\, 200 N. State Street\, St. Ignace\, MI\, 49781\, United States
CATEGORIES:Music
ATTACH;FMTTYPE=image/jpeg:https://stignace.com/wp-content/uploads/2024/08/Music-by-the-Bay-.jpg
ORGANIZER;CN="St. Ignace Visitors Bureau":MAILTO:info@stignace.com
GEO:45.8827395;-84.725427
X-APPLE-STRUCTURED-LOCATION;VALUE=URI;X-ADDRESS=American Legion Memorial Park 200 N. State Street St. Ignace MI 49781 United States;X-APPLE-RADIUS=500;X-TITLE=200 N. State Street:geo:-84.725427,45.8827395
END:VEVENT
BEGIN:VEVENT
DTSTART;TZID=America/Detroit:20260619T190000
DTEND;TZID=America/Detroit:20260619T203000
DTSTAMP:20260421T002008
CREATED:20260203T133744Z
LAST-MODIFIED:20260203T141711Z
UID:10003999-1781895600-1781901000@stignace.com
SUMMARY:Music by the Bay
DESCRIPTION:Music by the Bay \nMusic by the Bay brings live summer sound to the waterfront at American Legion Park in St. Ignace. Enjoy an evening of live music with views of Lake Huron and the Mackinac Bridge\, right in the heart of downtown. This concert takes place within St. Ignace’s Social District\, so attendees may purchase a beverage from a participating downtown business and enjoy it responsibly during the show. Bring a chair\, settle in by the bay\, and let summer set the rhythm.
URL:https://stignace.com/event/music-by-the-bay-june-2026/2026-06-19/
LOCATION:American Legion Memorial Park\, 200 N. State Street\, St. Ignace\, MI\, 49781\, United States
CATEGORIES:Music
ATTACH;FMTTYPE=image/jpeg:https://stignace.com/wp-content/uploads/2024/08/Music-by-the-Bay-.jpg
ORGANIZER;CN="St. Ignace Visitors Bureau":MAILTO:info@stignace.com
GEO:45.8827395;-84.725427
X-APPLE-STRUCTURED-LOCATION;VALUE=URI;X-ADDRESS=American Legion Memorial Park 200 N. State Street St. Ignace MI 49781 United States;X-APPLE-RADIUS=500;X-TITLE=200 N. State Street:geo:-84.725427,45.8827395
END:VEVENT
BEGIN:VEVENT
DTSTART;TZID=America/Detroit:20260620T190000
DTEND;TZID=America/Detroit:20260620T203000
DTSTAMP:20260421T002008
CREATED:20260203T133744Z
LAST-MODIFIED:20260203T141711Z
UID:10004000-1781982000-1781987400@stignace.com
SUMMARY:Music by the Bay
DESCRIPTION:Music by the Bay \nMusic by the Bay brings live summer sound to the waterfront at American Legion Park in St. Ignace. Enjoy an evening of live music with views of Lake Huron and the Mackinac Bridge\, right in the heart of downtown. This concert takes place within St. Ignace’s Social District\, so attendees may purchase a beverage from a participating downtown business and enjoy it responsibly during the show. Bring a chair\, settle in by the bay\, and let summer set the rhythm.
URL:https://stignace.com/event/music-by-the-bay-june-2026/2026-06-20/
LOCATION:American Legion Memorial Park\, 200 N. State Street\, St. Ignace\, MI\, 49781\, United States
CATEGORIES:Music
ATTACH;FMTTYPE=image/jpeg:https://stignace.com/wp-content/uploads/2024/08/Music-by-the-Bay-.jpg
ORGANIZER;CN="St. Ignace Visitors Bureau":MAILTO:info@stignace.com
GEO:45.8827395;-84.725427
X-APPLE-STRUCTURED-LOCATION;VALUE=URI;X-ADDRESS=American Legion Memorial Park 200 N. State Street St. Ignace MI 49781 United States;X-APPLE-RADIUS=500;X-TITLE=200 N. State Street:geo:-84.725427,45.8827395
END:VEVENT
BEGIN:VEVENT
DTSTART;TZID=America/Detroit:20260621T190000
DTEND;TZID=America/Detroit:20260621T203000
DTSTAMP:20260421T002008
CREATED:20260203T133744Z
LAST-MODIFIED:20260203T141711Z
UID:10004001-1782068400-1782073800@stignace.com
SUMMARY:Music by the Bay
DESCRIPTION:Music by the Bay \nMusic by the Bay brings live summer sound to the waterfront at American Legion Park in St. Ignace. Enjoy an evening of live music with views of Lake Huron and the Mackinac Bridge\, right in the heart of downtown. This concert takes place within St. Ignace’s Social District\, so attendees may purchase a beverage from a participating downtown business and enjoy it responsibly during the show. Bring a chair\, settle in by the bay\, and let summer set the rhythm.
URL:https://stignace.com/event/music-by-the-bay-june-2026/2026-06-21/
LOCATION:American Legion Memorial Park\, 200 N. State Street\, St. Ignace\, MI\, 49781\, United States
CATEGORIES:Music
ATTACH;FMTTYPE=image/jpeg:https://stignace.com/wp-content/uploads/2024/08/Music-by-the-Bay-.jpg
ORGANIZER;CN="St. Ignace Visitors Bureau":MAILTO:info@stignace.com
GEO:45.8827395;-84.725427
X-APPLE-STRUCTURED-LOCATION;VALUE=URI;X-ADDRESS=American Legion Memorial Park 200 N. State Street St. Ignace MI 49781 United States;X-APPLE-RADIUS=500;X-TITLE=200 N. State Street:geo:-84.725427,45.8827395
END:VEVENT
BEGIN:VEVENT
DTSTART;TZID=America/Detroit:20260626T190000
DTEND;TZID=America/Detroit:20260626T203000
DTSTAMP:20260421T002008
CREATED:20260203T133744Z
LAST-MODIFIED:20260203T141711Z
UID:10004002-1782500400-1782505800@stignace.com
SUMMARY:Music by the Bay
DESCRIPTION:Music by the Bay \nMusic by the Bay brings live summer sound to the waterfront at American Legion Park in St. Ignace. Enjoy an evening of live music with views of Lake Huron and the Mackinac Bridge\, right in the heart of downtown. This concert takes place within St. Ignace’s Social District\, so attendees may purchase a beverage from a participating downtown business and enjoy it responsibly during the show. Bring a chair\, settle in by the bay\, and let summer set the rhythm.
URL:https://stignace.com/event/music-by-the-bay-june-2026/2026-06-26/
LOCATION:American Legion Memorial Park\, 200 N. State Street\, St. Ignace\, MI\, 49781\, United States
CATEGORIES:Music
ATTACH;FMTTYPE=image/jpeg:https://stignace.com/wp-content/uploads/2024/08/Music-by-the-Bay-.jpg
ORGANIZER;CN="St. Ignace Visitors Bureau":MAILTO:info@stignace.com
GEO:45.8827395;-84.725427
X-APPLE-STRUCTURED-LOCATION;VALUE=URI;X-ADDRESS=American Legion Memorial Park 200 N. State Street St. Ignace MI 49781 United States;X-APPLE-RADIUS=500;X-TITLE=200 N. State Street:geo:-84.725427,45.8827395
END:VEVENT
BEGIN:VEVENT
DTSTART;TZID=America/Detroit:20260627T190000
DTEND;TZID=America/Detroit:20260627T203000
DTSTAMP:20260421T002008
CREATED:20260203T133744Z
LAST-MODIFIED:20260203T141711Z
UID:10004003-1782586800-1782592200@stignace.com
SUMMARY:Music by the Bay
DESCRIPTION:Music by the Bay \nMusic by the Bay brings live summer sound to the waterfront at American Legion Park in St. Ignace. Enjoy an evening of live music with views of Lake Huron and the Mackinac Bridge\, right in the heart of downtown. This concert takes place within St. Ignace’s Social District\, so attendees may purchase a beverage from a participating downtown business and enjoy it responsibly during the show. Bring a chair\, settle in by the bay\, and let summer set the rhythm.
URL:https://stignace.com/event/music-by-the-bay-june-2026/2026-06-27/
LOCATION:American Legion Memorial Park\, 200 N. State Street\, St. Ignace\, MI\, 49781\, United States
CATEGORIES:Music
ATTACH;FMTTYPE=image/jpeg:https://stignace.com/wp-content/uploads/2024/08/Music-by-the-Bay-.jpg
ORGANIZER;CN="St. Ignace Visitors Bureau":MAILTO:info@stignace.com
GEO:45.8827395;-84.725427
X-APPLE-STRUCTURED-LOCATION;VALUE=URI;X-ADDRESS=American Legion Memorial Park 200 N. State Street St. Ignace MI 49781 United States;X-APPLE-RADIUS=500;X-TITLE=200 N. State Street:geo:-84.725427,45.8827395
END:VEVENT
BEGIN:VEVENT
DTSTART;TZID=America/Detroit:20260628T190000
DTEND;TZID=America/Detroit:20260628T203000
DTSTAMP:20260421T002008
CREATED:20260203T133744Z
LAST-MODIFIED:20260203T141711Z
UID:10004004-1782673200-1782678600@stignace.com
SUMMARY:Music by the Bay
DESCRIPTION:Music by the Bay \nMusic by the Bay brings live summer sound to the waterfront at American Legion Park in St. Ignace. Enjoy an evening of live music with views of Lake Huron and the Mackinac Bridge\, right in the heart of downtown. This concert takes place within St. Ignace’s Social District\, so attendees may purchase a beverage from a participating downtown business and enjoy it responsibly during the show. Bring a chair\, settle in by the bay\, and let summer set the rhythm.
URL:https://stignace.com/event/music-by-the-bay-june-2026/2026-06-28/
LOCATION:American Legion Memorial Park\, 200 N. State Street\, St. Ignace\, MI\, 49781\, United States
CATEGORIES:Music
ATTACH;FMTTYPE=image/jpeg:https://stignace.com/wp-content/uploads/2024/08/Music-by-the-Bay-.jpg
ORGANIZER;CN="St. Ignace Visitors Bureau":MAILTO:info@stignace.com
GEO:45.8827395;-84.725427
X-APPLE-STRUCTURED-LOCATION;VALUE=URI;X-ADDRESS=American Legion Memorial Park 200 N. State Street St. Ignace MI 49781 United States;X-APPLE-RADIUS=500;X-TITLE=200 N. State Street:geo:-84.725427,45.8827395
END:VEVENT
END:VCALENDAR