BEGIN:VCALENDAR
VERSION:2.0
PRODID:-// - ECPv6.15.20//NONSGML v1.0//EN
CALSCALE:GREGORIAN
METHOD:PUBLISH
X-ORIGINAL-URL:https://stignace.com
X-WR-CALDESC:Events for 
REFRESH-INTERVAL;VALUE=DURATION:PT1H
X-Robots-Tag:noindex
X-PUBLISHED-TTL:PT1H
BEGIN:VTIMEZONE
TZID:America/Toronto
BEGIN:DAYLIGHT
TZOFFSETFROM:-0500
TZOFFSETTO:-0400
TZNAME:EDT
DTSTART:20230312T070000
END:DAYLIGHT
BEGIN:STANDARD
TZOFFSETFROM:-0400
TZOFFSETTO:-0500
TZNAME:EST
DTSTART:20231105T060000
END:STANDARD
BEGIN:DAYLIGHT
TZOFFSETFROM:-0500
TZOFFSETTO:-0400
TZNAME:EDT
DTSTART:20240310T070000
END:DAYLIGHT
BEGIN:STANDARD
TZOFFSETFROM:-0400
TZOFFSETTO:-0500
TZNAME:EST
DTSTART:20241103T060000
END:STANDARD
BEGIN:DAYLIGHT
TZOFFSETFROM:-0500
TZOFFSETTO:-0400
TZNAME:EDT
DTSTART:20250309T070000
END:DAYLIGHT
BEGIN:STANDARD
TZOFFSETFROM:-0400
TZOFFSETTO:-0500
TZNAME:EST
DTSTART:20251102T060000
END:STANDARD
END:VTIMEZONE
BEGIN:VEVENT
DTSTART;TZID=America/Toronto:20240817T220000
DTEND;TZID=America/Toronto:20240817T220000
DTSTAMP:20260422T204408
CREATED:20240127T001507Z
LAST-MODIFIED:20240805T183934Z
UID:10001348-1723932000-1723932000@stignace.com
SUMMARY:Fireworks Over The Bay
DESCRIPTION:Come and enjoy the fireworks over the bay in downtown St. Ignace! \nEvery Saturday night fireworks will decorate the sky over Moran Bay. \nVisitors can enjoy the display from the Huron Boardwalk\, area restaurants and motels\, or even just strolling through the business district. Saturdays at dusk or 10:00 p.m.\, come and join us in St. Ignace\, Michigan! \nSponsored in part by Kewadin Casinos. \nLocation: Moran Bay\, Lake Huron
URL:https://stignace.com/event/fireworks-over-the-bay/2024-08-17/
LOCATION:MI
CATEGORIES:Fireworks
END:VEVENT
BEGIN:VEVENT
DTSTART;TZID=America/Toronto:20240810T220000
DTEND;TZID=America/Toronto:20240810T220000
DTSTAMP:20260422T204408
CREATED:20240127T001507Z
LAST-MODIFIED:20240805T183934Z
UID:10001347-1723327200-1723327200@stignace.com
SUMMARY:Fireworks Over The Bay
DESCRIPTION:Come and enjoy the fireworks over the bay in downtown St. Ignace! \nEvery Saturday night fireworks will decorate the sky over Moran Bay. \nVisitors can enjoy the display from the Huron Boardwalk\, area restaurants and motels\, or even just strolling through the business district. Saturdays at dusk or 10:00 p.m.\, come and join us in St. Ignace\, Michigan! \nSponsored in part by Kewadin Casinos. \nLocation: Moran Bay\, Lake Huron
URL:https://stignace.com/event/fireworks-over-the-bay/2024-08-10/
LOCATION:MI
CATEGORIES:Fireworks
END:VEVENT
END:VCALENDAR