BEGIN:VCALENDAR
VERSION:2.0
PRODID:-// - ECPv6.15.20//NONSGML v1.0//EN
CALSCALE:GREGORIAN
METHOD:PUBLISH
X-ORIGINAL-URL:https://stignace.com
X-WR-CALDESC:Events for 
REFRESH-INTERVAL;VALUE=DURATION:PT1H
X-Robots-Tag:noindex
X-PUBLISHED-TTL:PT1H
BEGIN:VTIMEZONE
TZID:America/Toronto
BEGIN:DAYLIGHT
TZOFFSETFROM:-0500
TZOFFSETTO:-0400
TZNAME:EDT
DTSTART:20230312T070000
END:DAYLIGHT
BEGIN:STANDARD
TZOFFSETFROM:-0400
TZOFFSETTO:-0500
TZNAME:EST
DTSTART:20231105T060000
END:STANDARD
BEGIN:DAYLIGHT
TZOFFSETFROM:-0500
TZOFFSETTO:-0400
TZNAME:EDT
DTSTART:20240310T070000
END:DAYLIGHT
BEGIN:STANDARD
TZOFFSETFROM:-0400
TZOFFSETTO:-0500
TZNAME:EST
DTSTART:20241103T060000
END:STANDARD
BEGIN:DAYLIGHT
TZOFFSETFROM:-0500
TZOFFSETTO:-0400
TZNAME:EDT
DTSTART:20250309T070000
END:DAYLIGHT
BEGIN:STANDARD
TZOFFSETFROM:-0400
TZOFFSETTO:-0500
TZNAME:EST
DTSTART:20251102T060000
END:STANDARD
BEGIN:DAYLIGHT
TZOFFSETFROM:-0500
TZOFFSETTO:-0400
TZNAME:EDT
DTSTART:20260308T070000
END:DAYLIGHT
BEGIN:STANDARD
TZOFFSETFROM:-0400
TZOFFSETTO:-0500
TZNAME:EST
DTSTART:20261101T060000
END:STANDARD
END:VTIMEZONE
BEGIN:VEVENT
DTSTART;TZID=America/Toronto:20250919T210000
DTEND;TZID=America/Toronto:20250919T213000
DTSTAMP:20260422T164039
CREATED:20250618T173438Z
LAST-MODIFIED:20250828T142422Z
UID:10003966-1758315600-1758317400@stignace.com
SUMMARY:Fireworks Over the Bay
DESCRIPTION:St. Ignace lights up the sky with a free fireworks show over Moran Bay sponsored by Arnold Transit Company. \nThe display begins around 10:00 p.m.\, just after dusk\, and can be enjoyed from several scenic spots along the downtown waterfront\, including the Huron Boardwalk\, American Legion Park\, Kiwanis Beach\, and areas along N. State Street. \nIt’s the perfect way to end a summer day in St. Ignace—bring a blanket or chair and take in the show with friends\, family\, or fellow visitors along the shores of the Straits.
URL:https://stignace.com/event/fireworks-over-the-bay-3/2025-09-19/
LOCATION:MI
CATEGORIES:Family Fun,Fireworks,Summer Evenings
ATTACH;FMTTYPE=image/jpeg:https://stignace.com/wp-content/uploads/2025/05/01-Fireworks.jpg
END:VEVENT
BEGIN:VEVENT
DTSTART;TZID=America/Toronto:20250830T220000
DTEND;TZID=America/Toronto:20250830T223000
DTSTAMP:20260422T164039
CREATED:20250618T173438Z
LAST-MODIFIED:20250828T142422Z
UID:10003873-1756591200-1756593000@stignace.com
SUMMARY:Fireworks Over the Bay
DESCRIPTION:St. Ignace lights up the sky with a free fireworks show over Moran Bay sponsored by Arnold Transit Company. \nThe display begins around 10:00 p.m.\, just after dusk\, and can be enjoyed from several scenic spots along the downtown waterfront\, including the Huron Boardwalk\, American Legion Park\, Kiwanis Beach\, and areas along N. State Street. \nIt’s the perfect way to end a summer day in St. Ignace—bring a blanket or chair and take in the show with friends\, family\, or fellow visitors along the shores of the Straits.
URL:https://stignace.com/event/fireworks-over-the-bay-3/2025-08-30/
LOCATION:MI
CATEGORIES:Family Fun,Fireworks,Summer Evenings
ATTACH;FMTTYPE=image/jpeg:https://stignace.com/wp-content/uploads/2025/05/01-Fireworks.jpg
END:VEVENT
BEGIN:VEVENT
DTSTART;TZID=America/Toronto:20250823T220000
DTEND;TZID=America/Toronto:20250823T223000
DTSTAMP:20260422T164039
CREATED:20250618T173438Z
LAST-MODIFIED:20250828T142422Z
UID:10003872-1755986400-1755988200@stignace.com
SUMMARY:Fireworks Over the Bay
DESCRIPTION:St. Ignace lights up the sky with a free fireworks show over Moran Bay sponsored by Arnold Transit Company. \nThe display begins around 10:00 p.m.\, just after dusk\, and can be enjoyed from several scenic spots along the downtown waterfront\, including the Huron Boardwalk\, American Legion Park\, Kiwanis Beach\, and areas along N. State Street. \nIt’s the perfect way to end a summer day in St. Ignace—bring a blanket or chair and take in the show with friends\, family\, or fellow visitors along the shores of the Straits.
URL:https://stignace.com/event/fireworks-over-the-bay-3/2025-08-23/
LOCATION:MI
CATEGORIES:Family Fun,Fireworks,Summer Evenings
ATTACH;FMTTYPE=image/jpeg:https://stignace.com/wp-content/uploads/2025/05/01-Fireworks.jpg
END:VEVENT
BEGIN:VEVENT
DTSTART;TZID=America/Toronto:20250816T220000
DTEND;TZID=America/Toronto:20250816T223000
DTSTAMP:20260422T164039
CREATED:20250618T173438Z
LAST-MODIFIED:20250828T142422Z
UID:10003871-1755381600-1755383400@stignace.com
SUMMARY:Fireworks Over the Bay
DESCRIPTION:St. Ignace lights up the sky with a free fireworks show over Moran Bay sponsored by Arnold Transit Company. \nThe display begins around 10:00 p.m.\, just after dusk\, and can be enjoyed from several scenic spots along the downtown waterfront\, including the Huron Boardwalk\, American Legion Park\, Kiwanis Beach\, and areas along N. State Street. \nIt’s the perfect way to end a summer day in St. Ignace—bring a blanket or chair and take in the show with friends\, family\, or fellow visitors along the shores of the Straits.
URL:https://stignace.com/event/fireworks-over-the-bay-3/2025-08-16/
LOCATION:MI
CATEGORIES:Family Fun,Fireworks,Summer Evenings
ATTACH;FMTTYPE=image/jpeg:https://stignace.com/wp-content/uploads/2025/05/01-Fireworks.jpg
END:VEVENT
BEGIN:VEVENT
DTSTART;TZID=America/Toronto:20250809T220000
DTEND;TZID=America/Toronto:20250809T223000
DTSTAMP:20260422T164039
CREATED:20250618T173438Z
LAST-MODIFIED:20250828T142422Z
UID:10003870-1754776800-1754778600@stignace.com
SUMMARY:Fireworks Over the Bay
DESCRIPTION:St. Ignace lights up the sky with a free fireworks show over Moran Bay sponsored by Arnold Transit Company. \nThe display begins around 10:00 p.m.\, just after dusk\, and can be enjoyed from several scenic spots along the downtown waterfront\, including the Huron Boardwalk\, American Legion Park\, Kiwanis Beach\, and areas along N. State Street. \nIt’s the perfect way to end a summer day in St. Ignace—bring a blanket or chair and take in the show with friends\, family\, or fellow visitors along the shores of the Straits.
URL:https://stignace.com/event/fireworks-over-the-bay-3/2025-08-09/
LOCATION:MI
CATEGORIES:Family Fun,Fireworks,Summer Evenings
ATTACH;FMTTYPE=image/jpeg:https://stignace.com/wp-content/uploads/2025/05/01-Fireworks.jpg
END:VEVENT
BEGIN:VEVENT
DTSTART;TZID=America/Toronto:20250802T220000
DTEND;TZID=America/Toronto:20250802T223000
DTSTAMP:20260422T164039
CREATED:20250618T173438Z
LAST-MODIFIED:20250828T142422Z
UID:10003869-1754172000-1754173800@stignace.com
SUMMARY:Fireworks Over the Bay
DESCRIPTION:St. Ignace lights up the sky with a free fireworks show over Moran Bay sponsored by Arnold Transit Company. \nThe display begins around 10:00 p.m.\, just after dusk\, and can be enjoyed from several scenic spots along the downtown waterfront\, including the Huron Boardwalk\, American Legion Park\, Kiwanis Beach\, and areas along N. State Street. \nIt’s the perfect way to end a summer day in St. Ignace—bring a blanket or chair and take in the show with friends\, family\, or fellow visitors along the shores of the Straits.
URL:https://stignace.com/event/fireworks-over-the-bay-3/2025-08-02/
LOCATION:MI
CATEGORIES:Family Fun,Fireworks,Summer Evenings
ATTACH;FMTTYPE=image/jpeg:https://stignace.com/wp-content/uploads/2025/05/01-Fireworks.jpg
END:VEVENT
BEGIN:VEVENT
DTSTART;TZID=America/Toronto:20250726T220000
DTEND;TZID=America/Toronto:20250726T223000
DTSTAMP:20260422T164039
CREATED:20250618T173438Z
LAST-MODIFIED:20250828T142422Z
UID:10003868-1753567200-1753569000@stignace.com
SUMMARY:Fireworks Over the Bay
DESCRIPTION:St. Ignace lights up the sky with a free fireworks show over Moran Bay sponsored by Arnold Transit Company. \nThe display begins around 10:00 p.m.\, just after dusk\, and can be enjoyed from several scenic spots along the downtown waterfront\, including the Huron Boardwalk\, American Legion Park\, Kiwanis Beach\, and areas along N. State Street. \nIt’s the perfect way to end a summer day in St. Ignace—bring a blanket or chair and take in the show with friends\, family\, or fellow visitors along the shores of the Straits.
URL:https://stignace.com/event/fireworks-over-the-bay-3/2025-07-26/
LOCATION:MI
CATEGORIES:Family Fun,Fireworks,Summer Evenings
ATTACH;FMTTYPE=image/jpeg:https://stignace.com/wp-content/uploads/2025/05/01-Fireworks.jpg
END:VEVENT
BEGIN:VEVENT
DTSTART;TZID=America/Toronto:20250719T220000
DTEND;TZID=America/Toronto:20250719T223000
DTSTAMP:20260422T164039
CREATED:20250618T173438Z
LAST-MODIFIED:20250828T142422Z
UID:10003867-1752962400-1752964200@stignace.com
SUMMARY:Fireworks Over the Bay
DESCRIPTION:St. Ignace lights up the sky with a free fireworks show over Moran Bay sponsored by Arnold Transit Company. \nThe display begins around 10:00 p.m.\, just after dusk\, and can be enjoyed from several scenic spots along the downtown waterfront\, including the Huron Boardwalk\, American Legion Park\, Kiwanis Beach\, and areas along N. State Street. \nIt’s the perfect way to end a summer day in St. Ignace—bring a blanket or chair and take in the show with friends\, family\, or fellow visitors along the shores of the Straits.
URL:https://stignace.com/event/fireworks-over-the-bay-3/2025-07-19/
LOCATION:MI
CATEGORIES:Family Fun,Fireworks,Summer Evenings
ATTACH;FMTTYPE=image/jpeg:https://stignace.com/wp-content/uploads/2025/05/01-Fireworks.jpg
END:VEVENT
BEGIN:VEVENT
DTSTART;TZID=America/Toronto:20250712T220000
DTEND;TZID=America/Toronto:20250712T223000
DTSTAMP:20260422T164039
CREATED:20250618T173438Z
LAST-MODIFIED:20250828T142422Z
UID:10003866-1752357600-1752359400@stignace.com
SUMMARY:Fireworks Over the Bay
DESCRIPTION:St. Ignace lights up the sky with a free fireworks show over Moran Bay sponsored by Arnold Transit Company. \nThe display begins around 10:00 p.m.\, just after dusk\, and can be enjoyed from several scenic spots along the downtown waterfront\, including the Huron Boardwalk\, American Legion Park\, Kiwanis Beach\, and areas along N. State Street. \nIt’s the perfect way to end a summer day in St. Ignace—bring a blanket or chair and take in the show with friends\, family\, or fellow visitors along the shores of the Straits.
URL:https://stignace.com/event/fireworks-over-the-bay-3/2025-07-12/
LOCATION:MI
CATEGORIES:Family Fun,Fireworks,Summer Evenings
ATTACH;FMTTYPE=image/jpeg:https://stignace.com/wp-content/uploads/2025/05/01-Fireworks.jpg
END:VEVENT
BEGIN:VEVENT
DTSTART;TZID=America/Toronto:20250628T220000
DTEND;TZID=America/Toronto:20250628T223000
DTSTAMP:20260422T164039
CREATED:20250618T173438Z
LAST-MODIFIED:20250828T142422Z
UID:10003865-1751148000-1751149800@stignace.com
SUMMARY:Fireworks Over the Bay
DESCRIPTION:St. Ignace lights up the sky with a free fireworks show over Moran Bay sponsored by Arnold Transit Company. \nThe display begins around 10:00 p.m.\, just after dusk\, and can be enjoyed from several scenic spots along the downtown waterfront\, including the Huron Boardwalk\, American Legion Park\, Kiwanis Beach\, and areas along N. State Street. \nIt’s the perfect way to end a summer day in St. Ignace—bring a blanket or chair and take in the show with friends\, family\, or fellow visitors along the shores of the Straits.
URL:https://stignace.com/event/fireworks-over-the-bay-3/2025-06-28/
LOCATION:MI
CATEGORIES:Family Fun,Fireworks,Summer Evenings
ATTACH;FMTTYPE=image/jpeg:https://stignace.com/wp-content/uploads/2025/05/01-Fireworks.jpg
END:VEVENT
BEGIN:VEVENT
DTSTART;TZID=America/Toronto:20240817T220000
DTEND;TZID=America/Toronto:20240817T220000
DTSTAMP:20260422T164039
CREATED:20240127T001507Z
LAST-MODIFIED:20240805T183934Z
UID:10001348-1723932000-1723932000@stignace.com
SUMMARY:Fireworks Over The Bay
DESCRIPTION:Come and enjoy the fireworks over the bay in downtown St. Ignace! \nEvery Saturday night fireworks will decorate the sky over Moran Bay. \nVisitors can enjoy the display from the Huron Boardwalk\, area restaurants and motels\, or even just strolling through the business district. Saturdays at dusk or 10:00 p.m.\, come and join us in St. Ignace\, Michigan! \nSponsored in part by Kewadin Casinos. \nLocation: Moran Bay\, Lake Huron
URL:https://stignace.com/event/fireworks-over-the-bay/2024-08-17/
LOCATION:MI
CATEGORIES:Fireworks
END:VEVENT
BEGIN:VEVENT
DTSTART;TZID=America/Toronto:20240810T220000
DTEND;TZID=America/Toronto:20240810T220000
DTSTAMP:20260422T164039
CREATED:20240127T001507Z
LAST-MODIFIED:20240805T183934Z
UID:10001347-1723327200-1723327200@stignace.com
SUMMARY:Fireworks Over The Bay
DESCRIPTION:Come and enjoy the fireworks over the bay in downtown St. Ignace! \nEvery Saturday night fireworks will decorate the sky over Moran Bay. \nVisitors can enjoy the display from the Huron Boardwalk\, area restaurants and motels\, or even just strolling through the business district. Saturdays at dusk or 10:00 p.m.\, come and join us in St. Ignace\, Michigan! \nSponsored in part by Kewadin Casinos. \nLocation: Moran Bay\, Lake Huron
URL:https://stignace.com/event/fireworks-over-the-bay/2024-08-10/
LOCATION:MI
CATEGORIES:Fireworks
END:VEVENT
END:VCALENDAR