BEGIN:VCALENDAR
VERSION:2.0
PRODID:-// - ECPv6.15.20//NONSGML v1.0//EN
CALSCALE:GREGORIAN
METHOD:PUBLISH
X-ORIGINAL-URL:https://stignace.com
X-WR-CALDESC:Events for 
REFRESH-INTERVAL;VALUE=DURATION:PT1H
X-Robots-Tag:noindex
X-PUBLISHED-TTL:PT1H
BEGIN:VTIMEZONE
TZID:America/Toronto
BEGIN:DAYLIGHT
TZOFFSETFROM:-0500
TZOFFSETTO:-0400
TZNAME:EDT
DTSTART:20240310T070000
END:DAYLIGHT
BEGIN:STANDARD
TZOFFSETFROM:-0400
TZOFFSETTO:-0500
TZNAME:EST
DTSTART:20241103T060000
END:STANDARD
BEGIN:DAYLIGHT
TZOFFSETFROM:-0500
TZOFFSETTO:-0400
TZNAME:EDT
DTSTART:20250309T070000
END:DAYLIGHT
BEGIN:STANDARD
TZOFFSETFROM:-0400
TZOFFSETTO:-0500
TZNAME:EST
DTSTART:20251102T060000
END:STANDARD
BEGIN:DAYLIGHT
TZOFFSETFROM:-0500
TZOFFSETTO:-0400
TZNAME:EDT
DTSTART:20260308T070000
END:DAYLIGHT
BEGIN:STANDARD
TZOFFSETFROM:-0400
TZOFFSETTO:-0500
TZNAME:EST
DTSTART:20261101T060000
END:STANDARD
END:VTIMEZONE
BEGIN:VEVENT
DTSTART;TZID=America/Toronto:20250904T150000
DTEND;TZID=America/Toronto:20250904T190000
DTSTAMP:20260420T140058
CREATED:20250618T183242Z
LAST-MODIFIED:20250703T143224Z
UID:10003944-1756998000-1757012400@stignace.com
SUMMARY:Bayside Farmers Market
DESCRIPTION:Local vendors will be displaying their wares for sale on the grass to the left of the St. Ignace City Marina entrance. \nWe will have produce\, jewelry\, breads\, jams and much more! \nMarket Vendor Handbook
URL:https://stignace.com/event/bayside-farmers-market-4/2025-09-04/
LOCATION:MI
CATEGORIES:Family Fun,Summer Evenings
ATTACH;FMTTYPE=image/jpeg:https://stignace.com/wp-content/uploads/2024/12/01-Farmers-Market.jpg
END:VEVENT
BEGIN:VEVENT
DTSTART;TZID=America/Toronto:20250906T100000
DTEND;TZID=America/Toronto:20250906T160000
DTSTAMP:20260420T140058
CREATED:20250501T153543Z
LAST-MODIFIED:20250703T143233Z
UID:10002454-1757152800-1757174400@stignace.com
SUMMARY:St. Ignace Flea Market
DESCRIPTION:Browse\, barter\, and discover hidden gems at the St. Ignace Weekly Flea Market! \nHeld every Saturday from 10 AM to 4 PM at the Chamber of Commerce\, the market features a wide variety of local vendors offering antiques\, collectibles\, crafts\, and unique finds. \nThere’s something for everyone. Free to attend and open to the public! \nLast market will be September 27. \n 
URL:https://stignace.com/event/st-ignace-flea-market/2025-09-06/
LOCATION:Chamber of Commerce\, 560 N. State St.\, St. Ignace\, MI\, 49701\, United States
CATEGORIES:Family Fun
ATTACH;FMTTYPE=image/jpeg:https://stignace.com/wp-content/uploads/2025/05/02-Flea-Market.jpg
END:VEVENT
BEGIN:VEVENT
DTSTART;TZID=America/Toronto:20250911T150000
DTEND;TZID=America/Toronto:20250911T190000
DTSTAMP:20260420T140058
CREATED:20250618T183242Z
LAST-MODIFIED:20250703T143224Z
UID:10003945-1757602800-1757617200@stignace.com
SUMMARY:Bayside Farmers Market
DESCRIPTION:Local vendors will be displaying their wares for sale on the grass to the left of the St. Ignace City Marina entrance. \nWe will have produce\, jewelry\, breads\, jams and much more! \nMarket Vendor Handbook
URL:https://stignace.com/event/bayside-farmers-market-4/2025-09-11/
LOCATION:MI
CATEGORIES:Family Fun,Summer Evenings
ATTACH;FMTTYPE=image/jpeg:https://stignace.com/wp-content/uploads/2024/12/01-Farmers-Market.jpg
END:VEVENT
BEGIN:VEVENT
DTSTART;TZID=America/Toronto:20250912T213000
DTEND;TZID=America/Toronto:20250912T220000
DTSTAMP:20260420T140058
CREATED:20250501T164615Z
LAST-MODIFIED:20250703T143230Z
UID:10002496-1757712600-1757714400@stignace.com
SUMMARY:Drone Show
DESCRIPTION:Experience the magic of the night sky as hundreds of synchronized drones light up over the St. Ignace waterfront. \nThese state-of-the-art shows blend art and technology to create breathtaking aerial displays\, all choreographed to music. \nA modern twist on fireworks\, the drone shows are a must-see part of summer in St. Ignace.
URL:https://stignace.com/event/drone-show/2025-09-12/
LOCATION:Downtown St. Ignace\, St. Ignace\, MI\, 49781\, United States
CATEGORIES:Family Fun,Summer Evenings
ATTACH;FMTTYPE=image/jpeg:https://stignace.com/wp-content/uploads/2025/05/Drone-Light-Show.jpg
END:VEVENT
BEGIN:VEVENT
DTSTART;TZID=America/Toronto:20250913T100000
DTEND;TZID=America/Toronto:20250913T160000
DTSTAMP:20260420T140058
CREATED:20250501T153543Z
LAST-MODIFIED:20250703T143233Z
UID:10002455-1757757600-1757779200@stignace.com
SUMMARY:St. Ignace Flea Market
DESCRIPTION:Browse\, barter\, and discover hidden gems at the St. Ignace Weekly Flea Market! \nHeld every Saturday from 10 AM to 4 PM at the Chamber of Commerce\, the market features a wide variety of local vendors offering antiques\, collectibles\, crafts\, and unique finds. \nThere’s something for everyone. Free to attend and open to the public! \nLast market will be September 27. \n 
URL:https://stignace.com/event/st-ignace-flea-market/2025-09-13/
LOCATION:Chamber of Commerce\, 560 N. State St.\, St. Ignace\, MI\, 49701\, United States
CATEGORIES:Family Fun
ATTACH;FMTTYPE=image/jpeg:https://stignace.com/wp-content/uploads/2025/05/02-Flea-Market.jpg
END:VEVENT
BEGIN:VEVENT
DTSTART;TZID=America/Toronto:20250918T150000
DTEND;TZID=America/Toronto:20250918T190000
DTSTAMP:20260420T140058
CREATED:20250618T183242Z
LAST-MODIFIED:20250703T143224Z
UID:10003946-1758207600-1758222000@stignace.com
SUMMARY:Bayside Farmers Market
DESCRIPTION:Local vendors will be displaying their wares for sale on the grass to the left of the St. Ignace City Marina entrance. \nWe will have produce\, jewelry\, breads\, jams and much more! \nMarket Vendor Handbook
URL:https://stignace.com/event/bayside-farmers-market-4/2025-09-18/
LOCATION:MI
CATEGORIES:Family Fun,Summer Evenings
ATTACH;FMTTYPE=image/jpeg:https://stignace.com/wp-content/uploads/2024/12/01-Farmers-Market.jpg
END:VEVENT
BEGIN:VEVENT
DTSTART;TZID=America/Toronto:20250919T210000
DTEND;TZID=America/Toronto:20250919T213000
DTSTAMP:20260420T140058
CREATED:20250618T173438Z
LAST-MODIFIED:20250828T142422Z
UID:10003966-1758315600-1758317400@stignace.com
SUMMARY:Fireworks Over the Bay
DESCRIPTION:St. Ignace lights up the sky with a free fireworks show over Moran Bay sponsored by Arnold Transit Company. \nThe display begins around 10:00 p.m.\, just after dusk\, and can be enjoyed from several scenic spots along the downtown waterfront\, including the Huron Boardwalk\, American Legion Park\, Kiwanis Beach\, and areas along N. State Street. \nIt’s the perfect way to end a summer day in St. Ignace—bring a blanket or chair and take in the show with friends\, family\, or fellow visitors along the shores of the Straits.
URL:https://stignace.com/event/fireworks-over-the-bay-3/2025-09-19/
LOCATION:MI
CATEGORIES:Family Fun,Fireworks,Summer Evenings
ATTACH;FMTTYPE=image/jpeg:https://stignace.com/wp-content/uploads/2025/05/01-Fireworks.jpg
END:VEVENT
BEGIN:VEVENT
DTSTART;TZID=America/Toronto:20250920T100000
DTEND;TZID=America/Toronto:20250920T160000
DTSTAMP:20260420T140058
CREATED:20250501T153543Z
LAST-MODIFIED:20250703T143233Z
UID:10002456-1758362400-1758384000@stignace.com
SUMMARY:St. Ignace Flea Market
DESCRIPTION:Browse\, barter\, and discover hidden gems at the St. Ignace Weekly Flea Market! \nHeld every Saturday from 10 AM to 4 PM at the Chamber of Commerce\, the market features a wide variety of local vendors offering antiques\, collectibles\, crafts\, and unique finds. \nThere’s something for everyone. Free to attend and open to the public! \nLast market will be September 27. \n 
URL:https://stignace.com/event/st-ignace-flea-market/2025-09-20/
LOCATION:Chamber of Commerce\, 560 N. State St.\, St. Ignace\, MI\, 49701\, United States
CATEGORIES:Family Fun
ATTACH;FMTTYPE=image/jpeg:https://stignace.com/wp-content/uploads/2025/05/02-Flea-Market.jpg
END:VEVENT
BEGIN:VEVENT
DTSTART;TZID=America/Toronto:20250927T100000
DTEND;TZID=America/Toronto:20250927T160000
DTSTAMP:20260420T140058
CREATED:20250501T153543Z
LAST-MODIFIED:20250703T143233Z
UID:10002457-1758967200-1758988800@stignace.com
SUMMARY:St. Ignace Flea Market
DESCRIPTION:Browse\, barter\, and discover hidden gems at the St. Ignace Weekly Flea Market! \nHeld every Saturday from 10 AM to 4 PM at the Chamber of Commerce\, the market features a wide variety of local vendors offering antiques\, collectibles\, crafts\, and unique finds. \nThere’s something for everyone. Free to attend and open to the public! \nLast market will be September 27. \n 
URL:https://stignace.com/event/st-ignace-flea-market/2025-09-27/
LOCATION:Chamber of Commerce\, 560 N. State St.\, St. Ignace\, MI\, 49701\, United States
CATEGORIES:Family Fun
ATTACH;FMTTYPE=image/jpeg:https://stignace.com/wp-content/uploads/2025/05/02-Flea-Market.jpg
END:VEVENT
END:VCALENDAR